BEGIN:VCALENDAR
VERSION:2.0
PRODID:-//Hogs &amp; Heifers Saloon Las Vegas - ECPv6.15.20//NONSGML v1.0//EN
CALSCALE:GREGORIAN
METHOD:PUBLISH
X-ORIGINAL-URL:https://hogsandheiferslasvegas.com
X-WR-CALDESC:Events for Hogs &amp; Heifers Saloon Las Vegas
REFRESH-INTERVAL;VALUE=DURATION:PT1H
X-Robots-Tag:noindex
X-PUBLISHED-TTL:PT1H
BEGIN:VTIMEZONE
TZID:America/Los_Angeles
BEGIN:DAYLIGHT
TZOFFSETFROM:-0800
TZOFFSETTO:-0700
TZNAME:PDT
DTSTART:20170312T100000
END:DAYLIGHT
BEGIN:STANDARD
TZOFFSETFROM:-0700
TZOFFSETTO:-0800
TZNAME:PST
DTSTART:20171105T090000
END:STANDARD
BEGIN:DAYLIGHT
TZOFFSETFROM:-0800
TZOFFSETTO:-0700
TZNAME:PDT
DTSTART:20180311T100000
END:DAYLIGHT
BEGIN:STANDARD
TZOFFSETFROM:-0700
TZOFFSETTO:-0800
TZNAME:PST
DTSTART:20181104T090000
END:STANDARD
BEGIN:DAYLIGHT
TZOFFSETFROM:-0800
TZOFFSETTO:-0700
TZNAME:PDT
DTSTART:20190310T100000
END:DAYLIGHT
BEGIN:STANDARD
TZOFFSETFROM:-0700
TZOFFSETTO:-0800
TZNAME:PST
DTSTART:20191103T090000
END:STANDARD
END:VTIMEZONE
BEGIN:VEVENT
DTSTART;TZID=America/Los_Angeles:20180830T193000
DTEND;TZID=America/Los_Angeles:20180830T230000
DTSTAMP:20260424T011214
CREATED:20180830T175747Z
LAST-MODIFIED:20180830T175905Z
UID:24693-1535657400-1535670000@hogsandheiferslasvegas.com
SUMMARY:Cattle Call is tonight! Open Bartender Auditions - Hogs & Heifers is hiring!
DESCRIPTION:Bartender auditions at Hogs & Heifers Saloon\, aka Cattle Calls\, are always a good f*ckin time.  Applying or not\, come down and help us cheer on the next members of our crazy family! \nIf you are interested in becoming a member of the HOGS & HEIFERS Bartending Team\, Please keep reading: \nHOGS & HEIFERS is looking for LOUD\, BRASSY\, BRAZEN\, BOLD\, SASSY\, WITTY\, ENERGETIC AND ENTHUSIASTIC bartenders to sling drinks and ENTERTAIN at the best little gin mill in Vegas!!! \nSHY AND QUIET NEED NOT APPLY \nMUST BE 21 OR OVER W/ID \nThis job is NOT for the meek\, mild mannered or faint of heart.  It is challenging\, FUN\, and rewarding. \nMUST POSSESS THE FOLLOWING: \n\nGREAT ATTITUDE & HUGE PERSONALITY\nCOMMON SENSE & AWARENESS\nTHE ABILITY TO MULTITASK EFFECTIVELY\nGREAT SENSE OF HUMOR\nLOVE OF MUSIC\nRHYTHM A MUST\nPHYSICAL ENDURANCE\nHIGH ENERGY\nFULL SCHEDULE FLEXIBILITY AND AVAILABILITY IS A MUST\nMUST BE ABLE TO TAKE DIRECTION AND RECEIVE CONSTRUCTIVE CRITICISM \n\nBartending experience appreciated but NOT required \nIf you are interested in becoming a member of the HOGS & HEIFERS Team\, \nAPPLY IN PERSON:  Hogs & Heifers\, 201 N 3rd Street LV\, NV 89101 \nTHURSDAY\, AUGUST  30\, 2018 \n8:00PM \n\nExpect the Application/Audition Process to take 2 – 3 hours\nBe prepared to Dance \nNO HIGH HEELS OR SKIRTS\n\nWe DO NOT entertain applications via email\, phone or social media. \n \nShare this:\n				Email a link to a friend (Opens in new window)\n				Email\n			\n				Share on Facebook (Opens in new window)\n				Facebook\n			\n				Share on X (Opens in new window)\n				X\n			\n				Share on Tumblr (Opens in new window)\n				Tumblr\n			\n				Share on Reddit (Opens in new window)\n				Reddit\n			\n				Share on Pinterest (Opens in new window)\n				Pinterest\n			Like this:Like Loading...
URL:https://hogsandheiferslasvegas.com/event/24693/
LOCATION:Hogs & Heifers Saloon Las Vegas\, 201 N 3rd Street\, Las Vegas\, NV\, 89101\, United States
ATTACH;FMTTYPE=image/jpeg:https://hogsandheiferslasvegas.com/wp-content/uploads/2018/08/0043.jpg
ORGANIZER;CN="Hogs & Heifers Saloon":MAILTO:candice@hogsandheifers.com
END:VEVENT
BEGIN:VEVENT
DTSTART;TZID=America/Los_Angeles:20180830T200000
DTEND;TZID=America/Los_Angeles:20180830T230000
DTSTAMP:20260424T011214
CREATED:20180823T142513Z
LAST-MODIFIED:20180823T143212Z
UID:24553-1535659200-1535670000@hogsandheiferslasvegas.com
SUMMARY:Open Bartender Auditions Round II - Hogs & Heifers is hiring!
DESCRIPTION:Bartender auditions at Hogs & Heifers Saloon\, aka Cattle Calls\, are always a good f*ckin time.  Applying or not\, come down and help us cheer on the next members of our crazy family! \nIf you are interested in becoming a member of the HOGS & HEIFERS Bartending Team\, Please keep reading: \nHOGS & HEIFERS is looking for LOUD\, BRASSY\, BRAZEN\, BOLD\, SASSY\, WITTY\, ENERGETIC AND ENTHUSIASTIC bartenders to sling drinks and ENTERTAIN at the best little gin mill in Vegas!!! \nSHY AND QUIET NEED NOT APPLY \nMUST BE 21 OR OVER W/ID \nThis job is NOT for the meek\, mild mannered or faint of heart.  It is challenging\, FUN\, and rewarding. \nMUST POSSESS THE FOLLOWING: \n\nGREAT ATTITUDE & HUGE PERSONALITY\nCOMMON SENSE & AWARENESS\nTHE ABILITY TO MULTITASK EFFECTIVELY\nGREAT SENSE OF HUMOR\nLOVE OF MUSIC\nRHYTHM A MUST\nPHYSICAL ENDURANCE\nHIGH ENERGY\nFULL SCHEDULE FLEXIBILITY AND AVAILABILITY IS A MUST\nMUST BE ABLE TO TAKE DIRECTION AND RECEIVE CONSTRUCTIVE CRITICISM \n\nBartending experience appreciated but NOT required \nIf you are interested in becoming a member of the HOGS & HEIFERS Team\, \nAPPLY IN PERSON:  Hogs & Heifers\, 201 N 3rd Street LV\, NV 89101 \nTHURSDAY\, AUGUST  30\, 2018 \n8:00PM \n\nExpect the Application/Audition Process to take 2 – 3 hours\nBe prepared to Dance \nNO HIGH HEELS OR SKIRTS\n\nWe DO NOT entertain applications via email\, phone or social media. \n \nShare this:\n				Email a link to a friend (Opens in new window)\n				Email\n			\n				Share on Facebook (Opens in new window)\n				Facebook\n			\n				Share on X (Opens in new window)\n				X\n			\n				Share on Tumblr (Opens in new window)\n				Tumblr\n			\n				Share on Reddit (Opens in new window)\n				Reddit\n			\n				Share on Pinterest (Opens in new window)\n				Pinterest\n			Like this:Like Loading...
URL:https://hogsandheiferslasvegas.com/event/open-bartender-auditions-round-ii-hogs-heifers-is-hiring/
LOCATION:Hogs & Heifers Saloon Las Vegas\, 201 N 3rd Street\, Las Vegas\, NV\, 89101\, United States
ATTACH;FMTTYPE=image/jpeg:https://hogsandheiferslasvegas.com/wp-content/uploads/2018/07/Hogs-Heifers-Saloon_Las-Vegas_Bartenders_0243.jpg
ORGANIZER;CN="Hogs & Heifers Saloon":MAILTO:candice@hogsandheifers.com
END:VEVENT
END:VCALENDAR